BEGIN:VCALENDAR
VERSION:2.0
PRODID:-//Interfaith Outreach &amp; Community Partners - ECPv6.15.20//NONSGML v1.0//EN
CALSCALE:GREGORIAN
METHOD:PUBLISH
X-WR-CALNAME:Interfaith Outreach &amp; Community Partners
X-ORIGINAL-URL:https://iocp.org
X-WR-CALDESC:Events for Interfaith Outreach &amp; Community Partners
REFRESH-INTERVAL;VALUE=DURATION:PT1H
X-Robots-Tag:noindex
X-PUBLISHED-TTL:PT1H
BEGIN:VTIMEZONE
TZID:America/Chicago
BEGIN:DAYLIGHT
TZOFFSETFROM:-0600
TZOFFSETTO:-0500
TZNAME:CDT
DTSTART:20220313T080000
END:DAYLIGHT
BEGIN:STANDARD
TZOFFSETFROM:-0500
TZOFFSETTO:-0600
TZNAME:CST
DTSTART:20221106T070000
END:STANDARD
BEGIN:DAYLIGHT
TZOFFSETFROM:-0600
TZOFFSETTO:-0500
TZNAME:CDT
DTSTART:20230312T080000
END:DAYLIGHT
BEGIN:STANDARD
TZOFFSETFROM:-0500
TZOFFSETTO:-0600
TZNAME:CST
DTSTART:20231105T070000
END:STANDARD
BEGIN:DAYLIGHT
TZOFFSETFROM:-0600
TZOFFSETTO:-0500
TZNAME:CDT
DTSTART:20240310T080000
END:DAYLIGHT
BEGIN:STANDARD
TZOFFSETFROM:-0500
TZOFFSETTO:-0600
TZNAME:CST
DTSTART:20241103T070000
END:STANDARD
END:VTIMEZONE
BEGIN:VEVENT
DTSTART;TZID=America/Chicago:20230802T100000
DTEND;TZID=America/Chicago:20230802T190000
DTSTAMP:20260419T205950
CREATED:20230417T165752Z
LAST-MODIFIED:20230417T165752Z
UID:10000254-1690970400-1691002800@iocp.org
SUMMARY:Store + Donation Door Open
DESCRIPTION:Join us on Facebook at 6 p.m. for live shopping: Facebook.com/ResaleSelect
URL:https://iocp.org/event/store-donation-door-open-wednesday/2023-08-02/
CATEGORIES:Store Hours
END:VEVENT
BEGIN:VEVENT
DTSTART;TZID=America/Chicago:20230801T100000
DTEND;TZID=America/Chicago:20230801T170000
DTSTAMP:20260419T205950
CREATED:20230417T165350Z
LAST-MODIFIED:20230417T165350Z
UID:10000216-1690884000-1690909200@iocp.org
SUMMARY:Store Open
DESCRIPTION:Thrifting Tuesday: Take 25% off almost everything in the store every Tuesday *excludes furniture
URL:https://iocp.org/event/store-open-tuesday-2/2023-08-01/
CATEGORIES:Store Hours
END:VEVENT
BEGIN:VEVENT
DTSTART;TZID=America/Chicago:20230731T100000
DTEND;TZID=America/Chicago:20230731T170000
DTSTAMP:20260419T205950
CREATED:20230731T185325Z
LAST-MODIFIED:20230731T185325Z
UID:10000179-1690797600-1690822800@iocp.org
SUMMARY:Store Open + Donation Door Closed
DESCRIPTION:Last Chance Monday: Take 75% off all items with RED 50% off dots every Monday
URL:https://iocp.org/event/store-donation-door-open-monday-2-2/
CATEGORIES:Store Hours
END:VEVENT
BEGIN:VEVENT
DTSTART;TZID=America/Chicago:20230729T100000
DTEND;TZID=America/Chicago:20230729T170000
DTSTAMP:20260419T205950
CREATED:20230417T170636Z
LAST-MODIFIED:20230417T170636Z
UID:10000366-1690624800-1690650000@iocp.org
SUMMARY:Store Open
DESCRIPTION:
URL:https://iocp.org/event/store-open-17/2023-07-29/
CATEGORIES:Store Hours
END:VEVENT
BEGIN:VEVENT
DTSTART;TZID=America/Chicago:20230728T100000
DTEND;TZID=America/Chicago:20230728T170000
DTSTAMP:20260419T205950
CREATED:20230417T170515Z
LAST-MODIFIED:20230417T170723Z
UID:10000328-1690538400-1690563600@iocp.org
SUMMARY:Store + Donation Door Open
DESCRIPTION:Furniture Friday: Take 20% off all furniture every Friday
URL:https://iocp.org/event/store-donation-door-open-friday/2023-07-28/
CATEGORIES:Store Hours
END:VEVENT
BEGIN:VEVENT
DTSTART;TZID=America/Chicago:20230727T100000
DTEND;TZID=America/Chicago:20230727T170000
DTSTAMP:20260419T205950
CREATED:20230417T170348Z
LAST-MODIFIED:20231006T165424Z
UID:10000291-1690452000-1690477200@iocp.org
SUMMARY:Store Open
DESCRIPTION:Resale Rewards members earn double points every Thursday! \nEarn $5 in rewards for every $50 you spend! (regularly $5 in rewards for every $100) \nNot a Resale Rewards member? Sign up with a cashier in the store. \n*Rewards can be redeemed the day after they are issued and expire after 30 days.
URL:https://iocp.org/event/store-open-thursday-3/2023-07-27/
CATEGORIES:Store Hours
END:VEVENT
BEGIN:VEVENT
DTSTART;TZID=America/Chicago:20230726T100000
DTEND;TZID=America/Chicago:20230726T190000
DTSTAMP:20260419T205950
CREATED:20230417T165752Z
LAST-MODIFIED:20230417T165752Z
UID:10000253-1690365600-1690398000@iocp.org
SUMMARY:Store + Donation Door Open
DESCRIPTION:Join us on Facebook at 6 p.m. for live shopping: Facebook.com/ResaleSelect
URL:https://iocp.org/event/store-donation-door-open-wednesday/2023-07-26/
CATEGORIES:Store Hours
END:VEVENT
BEGIN:VEVENT
DTSTART;TZID=America/Chicago:20230725T100000
DTEND;TZID=America/Chicago:20230725T170000
DTSTAMP:20260419T205950
CREATED:20230417T165350Z
LAST-MODIFIED:20230417T165350Z
UID:10000215-1690279200-1690304400@iocp.org
SUMMARY:Store Open
DESCRIPTION:Thrifting Tuesday: Take 25% off almost everything in the store every Tuesday *excludes furniture
URL:https://iocp.org/event/store-open-tuesday-2/2023-07-25/
CATEGORIES:Store Hours
END:VEVENT
BEGIN:VEVENT
DTSTART;TZID=America/Chicago:20230724T100000
DTEND;TZID=America/Chicago:20230724T170000
DTSTAMP:20260419T205950
CREATED:20230417T164933Z
LAST-MODIFIED:20230417T165103Z
UID:10000178-1690192800-1690218000@iocp.org
SUMMARY:Store + Donation Door Open
DESCRIPTION:Last Chance Monday: Take 75% off all items with RED 50% off dots every Monday
URL:https://iocp.org/event/store-donation-door-open-monday-2/2023-07-24/
CATEGORIES:Store Hours
END:VEVENT
BEGIN:VEVENT
DTSTART;TZID=America/Chicago:20230722T100000
DTEND;TZID=America/Chicago:20230722T170000
DTSTAMP:20260419T205950
CREATED:20230417T170636Z
LAST-MODIFIED:20230417T170636Z
UID:10000365-1690020000-1690045200@iocp.org
SUMMARY:Store Open
DESCRIPTION:
URL:https://iocp.org/event/store-open-17/2023-07-22/
CATEGORIES:Store Hours
END:VEVENT
BEGIN:VEVENT
DTSTART;TZID=America/Chicago:20230721T100000
DTEND;TZID=America/Chicago:20230721T170000
DTSTAMP:20260419T205950
CREATED:20230417T170515Z
LAST-MODIFIED:20230417T170723Z
UID:10000327-1689933600-1689958800@iocp.org
SUMMARY:Store + Donation Door Open
DESCRIPTION:Furniture Friday: Take 20% off all furniture every Friday
URL:https://iocp.org/event/store-donation-door-open-friday/2023-07-21/
CATEGORIES:Store Hours
END:VEVENT
BEGIN:VEVENT
DTSTART;TZID=America/Chicago:20230720T100000
DTEND;TZID=America/Chicago:20230720T170000
DTSTAMP:20260419T205950
CREATED:20230417T170348Z
LAST-MODIFIED:20231006T165424Z
UID:10000290-1689847200-1689872400@iocp.org
SUMMARY:Store Open
DESCRIPTION:Resale Rewards members earn double points every Thursday! \nEarn $5 in rewards for every $50 you spend! (regularly $5 in rewards for every $100) \nNot a Resale Rewards member? Sign up with a cashier in the store. \n*Rewards can be redeemed the day after they are issued and expire after 30 days.
URL:https://iocp.org/event/store-open-thursday-3/2023-07-20/
CATEGORIES:Store Hours
END:VEVENT
BEGIN:VEVENT
DTSTART;TZID=America/Chicago:20230719T100000
DTEND;TZID=America/Chicago:20230719T190000
DTSTAMP:20260419T205950
CREATED:20230417T165752Z
LAST-MODIFIED:20230417T165752Z
UID:10000252-1689760800-1689793200@iocp.org
SUMMARY:Store + Donation Door Open
DESCRIPTION:Join us on Facebook at 6 p.m. for live shopping: Facebook.com/ResaleSelect
URL:https://iocp.org/event/store-donation-door-open-wednesday/2023-07-19/
CATEGORIES:Store Hours
END:VEVENT
BEGIN:VEVENT
DTSTART;TZID=America/Chicago:20230718T100000
DTEND;TZID=America/Chicago:20230718T170000
DTSTAMP:20260419T205950
CREATED:20230417T165350Z
LAST-MODIFIED:20230417T165350Z
UID:10000214-1689674400-1689699600@iocp.org
SUMMARY:Store Open
DESCRIPTION:Thrifting Tuesday: Take 25% off almost everything in the store every Tuesday *excludes furniture
URL:https://iocp.org/event/store-open-tuesday-2/2023-07-18/
CATEGORIES:Store Hours
END:VEVENT
BEGIN:VEVENT
DTSTART;TZID=America/Chicago:20230717T100000
DTEND;TZID=America/Chicago:20230717T170000
DTSTAMP:20260419T205950
CREATED:20230417T164933Z
LAST-MODIFIED:20230417T165103Z
UID:10000177-1689588000-1689613200@iocp.org
SUMMARY:Store + Donation Door Open
DESCRIPTION:Last Chance Monday: Take 75% off all items with RED 50% off dots every Monday
URL:https://iocp.org/event/store-donation-door-open-monday-2/2023-07-17/
CATEGORIES:Store Hours
END:VEVENT
BEGIN:VEVENT
DTSTART;TZID=America/Chicago:20230715T100000
DTEND;TZID=America/Chicago:20230715T170000
DTSTAMP:20260419T205950
CREATED:20230510T171014Z
LAST-MODIFIED:20230510T171014Z
UID:10000398-1689415200-1689440400@iocp.org
SUMMARY:$5 Fill-a-Bag Sale
DESCRIPTION:$5 Fill-a-Bag Sale \nShop special tables and racks of merchandise we’re setting aside just for these sales. Most items have never been in the store before! Regularly tagged merchandise is not included in this sale. Just $5 for everything you can fit in a provided bag (no limit). Bring your whole family — there’s something for everyone!\n\nSaturdays:\nApril 22\, May 6 & 20\, June 3 & 17\, July 1 & 15\, August 5 & 19\n10 a.m.-5 p.m.\n\nMore info HERE.
URL:https://iocp.org/event/fill-a-bag-sale-2023/2023-07-15/
CATEGORIES:Shopping Event
END:VEVENT
BEGIN:VEVENT
DTSTART;TZID=America/Chicago:20230715T100000
DTEND;TZID=America/Chicago:20230715T170000
DTSTAMP:20260419T205950
CREATED:20230418T152048Z
LAST-MODIFIED:20230418T152048Z
UID:10000364-1689415200-1689440400@iocp.org
SUMMARY:Store Open
DESCRIPTION:$5 Fill-a-Bag Sale \nShop special tables and racks of merchandise we’re setting aside just for these sales. Most items have never been in the store before! Regularly tagged merchandise is not included in this sale. Just $5 for everything you can fit in a provided bag (no limit). Bring your whole family — there’s something for everyone!\n\nSaturdays:\nApril 22\, May 6 & 20\, June 3 & 17\, July 1 & 15\, August 5 & 19\n10 a.m.-5 p.m.
URL:https://iocp.org/event/store-open-17-8/
CATEGORIES:Store Hours
END:VEVENT
BEGIN:VEVENT
DTSTART;TZID=America/Chicago:20230714T100000
DTEND;TZID=America/Chicago:20230714T170000
DTSTAMP:20260419T205950
CREATED:20230417T170515Z
LAST-MODIFIED:20230417T170723Z
UID:10000326-1689328800-1689354000@iocp.org
SUMMARY:Store + Donation Door Open
DESCRIPTION:Furniture Friday: Take 20% off all furniture every Friday
URL:https://iocp.org/event/store-donation-door-open-friday/2023-07-14/
CATEGORIES:Store Hours
END:VEVENT
BEGIN:VEVENT
DTSTART;TZID=America/Chicago:20230713T100000
DTEND;TZID=America/Chicago:20230713T170000
DTSTAMP:20260419T205950
CREATED:20230417T170348Z
LAST-MODIFIED:20231006T165424Z
UID:10000289-1689242400-1689267600@iocp.org
SUMMARY:Store Open
DESCRIPTION:Resale Rewards members earn double points every Thursday! \nEarn $5 in rewards for every $50 you spend! (regularly $5 in rewards for every $100) \nNot a Resale Rewards member? Sign up with a cashier in the store. \n*Rewards can be redeemed the day after they are issued and expire after 30 days.
URL:https://iocp.org/event/store-open-thursday-3/2023-07-13/
CATEGORIES:Store Hours
END:VEVENT
BEGIN:VEVENT
DTSTART;TZID=America/Chicago:20230712T100000
DTEND;TZID=America/Chicago:20230712T190000
DTSTAMP:20260419T205950
CREATED:20230417T165752Z
LAST-MODIFIED:20230417T165752Z
UID:10000251-1689156000-1689188400@iocp.org
SUMMARY:Store + Donation Door Open
DESCRIPTION:Join us on Facebook at 6 p.m. for live shopping: Facebook.com/ResaleSelect
URL:https://iocp.org/event/store-donation-door-open-wednesday/2023-07-12/
CATEGORIES:Store Hours
END:VEVENT
BEGIN:VEVENT
DTSTART;TZID=America/Chicago:20230711T100000
DTEND;TZID=America/Chicago:20230711T170000
DTSTAMP:20260419T205950
CREATED:20230417T165350Z
LAST-MODIFIED:20230417T165350Z
UID:10000213-1689069600-1689094800@iocp.org
SUMMARY:Store Open
DESCRIPTION:Thrifting Tuesday: Take 25% off almost everything in the store every Tuesday *excludes furniture
URL:https://iocp.org/event/store-open-tuesday-2/2023-07-11/
CATEGORIES:Store Hours
END:VEVENT
BEGIN:VEVENT
DTSTART;TZID=America/Chicago:20230710T100000
DTEND;TZID=America/Chicago:20230710T170000
DTSTAMP:20260419T205950
CREATED:20230417T164933Z
LAST-MODIFIED:20230417T165103Z
UID:10000176-1688983200-1689008400@iocp.org
SUMMARY:Store + Donation Door Open
DESCRIPTION:Last Chance Monday: Take 75% off all items with RED 50% off dots every Monday
URL:https://iocp.org/event/store-donation-door-open-monday-2/2023-07-10/
CATEGORIES:Store Hours
END:VEVENT
BEGIN:VEVENT
DTSTART;TZID=America/Chicago:20230708T100000
DTEND;TZID=America/Chicago:20230708T170000
DTSTAMP:20260419T205950
CREATED:20230417T170636Z
LAST-MODIFIED:20230417T170636Z
UID:10000363-1688810400-1688835600@iocp.org
SUMMARY:Store Open
DESCRIPTION:
URL:https://iocp.org/event/store-open-17/2023-07-08/
CATEGORIES:Store Hours
END:VEVENT
BEGIN:VEVENT
DTSTART;TZID=America/Chicago:20230707T100000
DTEND;TZID=America/Chicago:20230707T170000
DTSTAMP:20260419T205950
CREATED:20230417T170515Z
LAST-MODIFIED:20230417T170723Z
UID:10000325-1688724000-1688749200@iocp.org
SUMMARY:Store + Donation Door Open
DESCRIPTION:Furniture Friday: Take 20% off all furniture every Friday
URL:https://iocp.org/event/store-donation-door-open-friday/2023-07-07/
CATEGORIES:Store Hours
END:VEVENT
BEGIN:VEVENT
DTSTART;TZID=America/Chicago:20230706T100000
DTEND;TZID=America/Chicago:20230706T170000
DTSTAMP:20260419T205950
CREATED:20230417T170348Z
LAST-MODIFIED:20231006T165424Z
UID:10000288-1688637600-1688662800@iocp.org
SUMMARY:Store Open
DESCRIPTION:Resale Rewards members earn double points every Thursday! \nEarn $5 in rewards for every $50 you spend! (regularly $5 in rewards for every $100) \nNot a Resale Rewards member? Sign up with a cashier in the store. \n*Rewards can be redeemed the day after they are issued and expire after 30 days.
URL:https://iocp.org/event/store-open-thursday-3/2023-07-06/
CATEGORIES:Store Hours
END:VEVENT
BEGIN:VEVENT
DTSTART;TZID=America/Chicago:20230705T100000
DTEND;TZID=America/Chicago:20230705T190000
DTSTAMP:20260419T205950
CREATED:20230417T165752Z
LAST-MODIFIED:20230417T165752Z
UID:10000250-1688551200-1688583600@iocp.org
SUMMARY:Store + Donation Door Open
DESCRIPTION:Join us on Facebook at 6 p.m. for live shopping: Facebook.com/ResaleSelect
URL:https://iocp.org/event/store-donation-door-open-wednesday/2023-07-05/
CATEGORIES:Store Hours
END:VEVENT
BEGIN:VEVENT
DTSTART;VALUE=DATE:20230704
DTEND;VALUE=DATE:20230705
DTSTAMP:20260419T205950
CREATED:20230613T184529Z
LAST-MODIFIED:20230823T154421Z
UID:10000411-1688428800-1688515199@iocp.org
SUMMARY:Store Closed
DESCRIPTION:
URL:https://iocp.org/event/store-closed/
CATEGORIES:Store Hours
END:VEVENT
BEGIN:VEVENT
DTSTART;TZID=America/Chicago:20230703T100000
DTEND;TZID=America/Chicago:20230703T170000
DTSTAMP:20260419T205950
CREATED:20230417T164933Z
LAST-MODIFIED:20230417T165103Z
UID:10000175-1688378400-1688403600@iocp.org
SUMMARY:Store + Donation Door Open
DESCRIPTION:Last Chance Monday: Take 75% off all items with RED 50% off dots every Monday
URL:https://iocp.org/event/store-donation-door-open-monday-2/2023-07-03/
CATEGORIES:Store Hours
END:VEVENT
BEGIN:VEVENT
DTSTART;TZID=America/Chicago:20230701T100000
DTEND;TZID=America/Chicago:20230701T170000
DTSTAMP:20260419T205950
CREATED:20230510T171014Z
LAST-MODIFIED:20230510T171014Z
UID:10000397-1688205600-1688230800@iocp.org
SUMMARY:$5 Fill-a-Bag Sale
DESCRIPTION:$5 Fill-a-Bag Sale \nShop special tables and racks of merchandise we’re setting aside just for these sales. Most items have never been in the store before! Regularly tagged merchandise is not included in this sale. Just $5 for everything you can fit in a provided bag (no limit). Bring your whole family — there’s something for everyone!\n\nSaturdays:\nApril 22\, May 6 & 20\, June 3 & 17\, July 1 & 15\, August 5 & 19\n10 a.m.-5 p.m.\n\nMore info HERE.
URL:https://iocp.org/event/fill-a-bag-sale-2023/2023-07-01/
CATEGORIES:Shopping Event
END:VEVENT
BEGIN:VEVENT
DTSTART;TZID=America/Chicago:20230701T100000
DTEND;TZID=America/Chicago:20230701T170000
DTSTAMP:20260419T205950
CREATED:20230418T152030Z
LAST-MODIFIED:20230418T152031Z
UID:10000362-1688205600-1688230800@iocp.org
SUMMARY:Store Open
DESCRIPTION:$5 Fill-a-Bag Sale \nShop special tables and racks of merchandise we’re setting aside just for these sales. Most items have never been in the store before! Regularly tagged merchandise is not included in this sale. Just $5 for everything you can fit in a provided bag (no limit). Bring your whole family — there’s something for everyone!\n\nSaturdays:\nApril 22\, May 6 & 20\, June 3 & 17\, July 1 & 15\, August 5 & 19\n10 a.m.-5 p.m.
URL:https://iocp.org/event/store-open-17-7/
CATEGORIES:Store Hours
END:VEVENT
END:VCALENDAR