BEGIN:VCALENDAR
VERSION:2.0
PRODID:-//Interfaith Outreach &amp; Community Partners - ECPv6.15.20//NONSGML v1.0//EN
CALSCALE:GREGORIAN
METHOD:PUBLISH
X-WR-CALNAME:Interfaith Outreach &amp; Community Partners
X-ORIGINAL-URL:https://iocp.org
X-WR-CALDESC:Events for Interfaith Outreach &amp; Community Partners
REFRESH-INTERVAL;VALUE=DURATION:PT1H
X-Robots-Tag:noindex
X-PUBLISHED-TTL:PT1H
BEGIN:VTIMEZONE
TZID:America/Chicago
BEGIN:DAYLIGHT
TZOFFSETFROM:-0600
TZOFFSETTO:-0500
TZNAME:CDT
DTSTART:20220313T080000
END:DAYLIGHT
BEGIN:STANDARD
TZOFFSETFROM:-0500
TZOFFSETTO:-0600
TZNAME:CST
DTSTART:20221106T070000
END:STANDARD
BEGIN:DAYLIGHT
TZOFFSETFROM:-0600
TZOFFSETTO:-0500
TZNAME:CDT
DTSTART:20230312T080000
END:DAYLIGHT
BEGIN:STANDARD
TZOFFSETFROM:-0500
TZOFFSETTO:-0600
TZNAME:CST
DTSTART:20231105T070000
END:STANDARD
BEGIN:DAYLIGHT
TZOFFSETFROM:-0600
TZOFFSETTO:-0500
TZNAME:CDT
DTSTART:20240310T080000
END:DAYLIGHT
BEGIN:STANDARD
TZOFFSETFROM:-0500
TZOFFSETTO:-0600
TZNAME:CST
DTSTART:20241103T070000
END:STANDARD
END:VTIMEZONE
BEGIN:VEVENT
DTSTART;TZID=America/Chicago:20230826T100000
DTEND;TZID=America/Chicago:20230826T170000
DTSTAMP:20260419T165342
CREATED:20230417T170636Z
LAST-MODIFIED:20230417T170636Z
UID:10000370-1693044000-1693069200@iocp.org
SUMMARY:Store Open
DESCRIPTION:
URL:https://iocp.org/event/store-open-17/2023-08-26/
CATEGORIES:Store Hours
END:VEVENT
BEGIN:VEVENT
DTSTART;TZID=America/Chicago:20230825T100000
DTEND;TZID=America/Chicago:20230825T170000
DTSTAMP:20260419T165342
CREATED:20230417T170515Z
LAST-MODIFIED:20230417T170723Z
UID:10000332-1692957600-1692982800@iocp.org
SUMMARY:Store + Donation Door Open
DESCRIPTION:Furniture Friday: Take 20% off all furniture every Friday
URL:https://iocp.org/event/store-donation-door-open-friday/2023-08-25/
CATEGORIES:Store Hours
END:VEVENT
BEGIN:VEVENT
DTSTART;TZID=America/Chicago:20230824T100000
DTEND;TZID=America/Chicago:20230824T190000
DTSTAMP:20260419T165342
CREATED:20230823T153914Z
LAST-MODIFIED:20230823T153915Z
UID:10000276-1692871200-1692903600@iocp.org
SUMMARY:Store Open
DESCRIPTION:Resale Rewards members earn double points every Thursday! \nEarn $5 in rewards for every $50 you spend! (regularly $5 in rewards for every $100) \nNot a Resale Rewards member? Sign up with a cashier in the store. \n*Rewards can be redeemed the day after they are issued and expire after 30 days.
URL:https://iocp.org/event/store-open-thursday-3-3/
CATEGORIES:Store Hours
END:VEVENT
BEGIN:VEVENT
DTSTART;TZID=America/Chicago:20230823T100000
DTEND;TZID=America/Chicago:20230823T190000
DTSTAMP:20260419T165342
CREATED:20230823T153619Z
LAST-MODIFIED:20230823T153619Z
UID:10000257-1692784800-1692817200@iocp.org
SUMMARY:Store Open
DESCRIPTION:Join us on Facebook at 6 p.m. for live shopping: Facebook.com/ResaleSelect
URL:https://iocp.org/event/store-donation-door-open-wednesday-5/
CATEGORIES:Store Hours
END:VEVENT
BEGIN:VEVENT
DTSTART;TZID=America/Chicago:20230823T100000
DTEND;TZID=America/Chicago:20230823T130000
DTSTAMP:20260419T165342
CREATED:20230823T153819Z
LAST-MODIFIED:20230823T154259Z
UID:10000414-1692784800-1692795600@iocp.org
SUMMARY:Donation Door open until 1 p.m.
DESCRIPTION:Due to the extreme heat\, our donation door will be closing at 1 p.m. today\, Wednesday\, Aug. 23.
URL:https://iocp.org/event/donation-door-open-until-1-p-m/
CATEGORIES:Store Hours
END:VEVENT
BEGIN:VEVENT
DTSTART;TZID=America/Chicago:20230822T100000
DTEND;TZID=America/Chicago:20230822T170000
DTSTAMP:20260419T165342
CREATED:20230417T165350Z
LAST-MODIFIED:20230417T165350Z
UID:10000219-1692698400-1692723600@iocp.org
SUMMARY:Store Open
DESCRIPTION:Thrifting Tuesday: Take 25% off almost everything in the store every Tuesday *excludes furniture
URL:https://iocp.org/event/store-open-tuesday-2/2023-08-22/
CATEGORIES:Store Hours
END:VEVENT
BEGIN:VEVENT
DTSTART;TZID=America/Chicago:20230821T100000
DTEND;TZID=America/Chicago:20230821T170000
DTSTAMP:20260419T165342
CREATED:20230417T164933Z
LAST-MODIFIED:20230417T165103Z
UID:10000182-1692612000-1692637200@iocp.org
SUMMARY:Store + Donation Door Open
DESCRIPTION:Last Chance Monday: Take 75% off all items with RED 50% off dots every Monday
URL:https://iocp.org/event/store-donation-door-open-monday-2/2023-08-21/
CATEGORIES:Store Hours
END:VEVENT
BEGIN:VEVENT
DTSTART;TZID=America/Chicago:20230819T100000
DTEND;TZID=America/Chicago:20230819T170000
DTSTAMP:20260419T165342
CREATED:20230510T171014Z
LAST-MODIFIED:20230510T171014Z
UID:10000400-1692439200-1692464400@iocp.org
SUMMARY:$5 Fill-a-Bag Sale
DESCRIPTION:$5 Fill-a-Bag Sale \nShop special tables and racks of merchandise we’re setting aside just for these sales. Most items have never been in the store before! Regularly tagged merchandise is not included in this sale. Just $5 for everything you can fit in a provided bag (no limit). Bring your whole family — there’s something for everyone!\n\nSaturdays:\nApril 22\, May 6 & 20\, June 3 & 17\, July 1 & 15\, August 5 & 19\n10 a.m.-5 p.m.\n\nMore info HERE.
URL:https://iocp.org/event/fill-a-bag-sale-2023/2023-08-19/
CATEGORIES:Shopping Event
END:VEVENT
BEGIN:VEVENT
DTSTART;TZID=America/Chicago:20230819T100000
DTEND;TZID=America/Chicago:20230819T170000
DTSTAMP:20260419T165342
CREATED:20230418T152142Z
LAST-MODIFIED:20230418T152142Z
UID:10000369-1692439200-1692464400@iocp.org
SUMMARY:Store Open
DESCRIPTION:$5 Fill-a-Bag Sale \nShop special tables and racks of merchandise we’re setting aside just for these sales. Most items have never been in the store before! Regularly tagged merchandise is not included in this sale. Just $5 for everything you can fit in a provided bag (no limit). Bring your whole family — there’s something for everyone!\n\nSaturdays:\nApril 22\, May 6 & 20\, June 3 & 17\, July 1 & 15\, August 5 & 19\n10 a.m.-5 p.m.
URL:https://iocp.org/event/store-open-17-10/
CATEGORIES:Store Hours
END:VEVENT
BEGIN:VEVENT
DTSTART;TZID=America/Chicago:20230818T100000
DTEND;TZID=America/Chicago:20230818T170000
DTSTAMP:20260419T165342
CREATED:20230417T170515Z
LAST-MODIFIED:20230417T170723Z
UID:10000331-1692352800-1692378000@iocp.org
SUMMARY:Store + Donation Door Open
DESCRIPTION:Furniture Friday: Take 20% off all furniture every Friday
URL:https://iocp.org/event/store-donation-door-open-friday/2023-08-18/
CATEGORIES:Store Hours
END:VEVENT
BEGIN:VEVENT
DTSTART;TZID=America/Chicago:20230817T100000
DTEND;TZID=America/Chicago:20230817T170000
DTSTAMP:20260419T165342
CREATED:20230417T170348Z
LAST-MODIFIED:20231006T165424Z
UID:10000294-1692266400-1692291600@iocp.org
SUMMARY:Store Open
DESCRIPTION:Resale Rewards members earn double points every Thursday! \nEarn $5 in rewards for every $50 you spend! (regularly $5 in rewards for every $100) \nNot a Resale Rewards member? Sign up with a cashier in the store. \n*Rewards can be redeemed the day after they are issued and expire after 30 days.
URL:https://iocp.org/event/store-open-thursday-3/2023-08-17/
CATEGORIES:Store Hours
END:VEVENT
BEGIN:VEVENT
DTSTART;TZID=America/Chicago:20230816T100000
DTEND;TZID=America/Chicago:20230816T190000
DTSTAMP:20260419T165342
CREATED:20230417T165752Z
LAST-MODIFIED:20230417T165752Z
UID:10000256-1692180000-1692212400@iocp.org
SUMMARY:Store + Donation Door Open
DESCRIPTION:Join us on Facebook at 6 p.m. for live shopping: Facebook.com/ResaleSelect
URL:https://iocp.org/event/store-donation-door-open-wednesday/2023-08-16/
CATEGORIES:Store Hours
END:VEVENT
BEGIN:VEVENT
DTSTART;TZID=America/Chicago:20230815T100000
DTEND;TZID=America/Chicago:20230815T170000
DTSTAMP:20260419T165342
CREATED:20230417T165350Z
LAST-MODIFIED:20230417T165350Z
UID:10000218-1692093600-1692118800@iocp.org
SUMMARY:Store Open
DESCRIPTION:Thrifting Tuesday: Take 25% off almost everything in the store every Tuesday *excludes furniture
URL:https://iocp.org/event/store-open-tuesday-2/2023-08-15/
CATEGORIES:Store Hours
END:VEVENT
BEGIN:VEVENT
DTSTART;TZID=America/Chicago:20230814T100000
DTEND;TZID=America/Chicago:20230814T170000
DTSTAMP:20260419T165342
CREATED:20230417T164933Z
LAST-MODIFIED:20230417T165103Z
UID:10000181-1692007200-1692032400@iocp.org
SUMMARY:Store + Donation Door Open
DESCRIPTION:Last Chance Monday: Take 75% off all items with RED 50% off dots every Monday
URL:https://iocp.org/event/store-donation-door-open-monday-2/2023-08-14/
CATEGORIES:Store Hours
END:VEVENT
BEGIN:VEVENT
DTSTART;TZID=America/Chicago:20230812T100000
DTEND;TZID=America/Chicago:20230812T170000
DTSTAMP:20260419T165342
CREATED:20230417T170636Z
LAST-MODIFIED:20230417T170636Z
UID:10000368-1691834400-1691859600@iocp.org
SUMMARY:Store Open
DESCRIPTION:
URL:https://iocp.org/event/store-open-17/2023-08-12/
CATEGORIES:Store Hours
END:VEVENT
BEGIN:VEVENT
DTSTART;TZID=America/Chicago:20230811T100000
DTEND;TZID=America/Chicago:20230811T170000
DTSTAMP:20260419T165342
CREATED:20230417T170515Z
LAST-MODIFIED:20230417T170723Z
UID:10000330-1691748000-1691773200@iocp.org
SUMMARY:Store + Donation Door Open
DESCRIPTION:Furniture Friday: Take 20% off all furniture every Friday
URL:https://iocp.org/event/store-donation-door-open-friday/2023-08-11/
CATEGORIES:Store Hours
END:VEVENT
BEGIN:VEVENT
DTSTART;TZID=America/Chicago:20230810T100000
DTEND;TZID=America/Chicago:20230810T170000
DTSTAMP:20260419T165342
CREATED:20230417T170348Z
LAST-MODIFIED:20231006T165424Z
UID:10000293-1691661600-1691686800@iocp.org
SUMMARY:Store Open
DESCRIPTION:Resale Rewards members earn double points every Thursday! \nEarn $5 in rewards for every $50 you spend! (regularly $5 in rewards for every $100) \nNot a Resale Rewards member? Sign up with a cashier in the store. \n*Rewards can be redeemed the day after they are issued and expire after 30 days.
URL:https://iocp.org/event/store-open-thursday-3/2023-08-10/
CATEGORIES:Store Hours
END:VEVENT
BEGIN:VEVENT
DTSTART;TZID=America/Chicago:20230809T100000
DTEND;TZID=America/Chicago:20230809T190000
DTSTAMP:20260419T165342
CREATED:20230417T165752Z
LAST-MODIFIED:20230417T165752Z
UID:10000255-1691575200-1691607600@iocp.org
SUMMARY:Store + Donation Door Open
DESCRIPTION:Join us on Facebook at 6 p.m. for live shopping: Facebook.com/ResaleSelect
URL:https://iocp.org/event/store-donation-door-open-wednesday/2023-08-09/
CATEGORIES:Store Hours
END:VEVENT
BEGIN:VEVENT
DTSTART;TZID=America/Chicago:20230808T100000
DTEND;TZID=America/Chicago:20230808T170000
DTSTAMP:20260419T165342
CREATED:20230417T165350Z
LAST-MODIFIED:20230417T165350Z
UID:10000217-1691488800-1691514000@iocp.org
SUMMARY:Store Open
DESCRIPTION:Thrifting Tuesday: Take 25% off almost everything in the store every Tuesday *excludes furniture
URL:https://iocp.org/event/store-open-tuesday-2/2023-08-08/
CATEGORIES:Store Hours
END:VEVENT
BEGIN:VEVENT
DTSTART;TZID=America/Chicago:20230807T100000
DTEND;TZID=America/Chicago:20230807T170000
DTSTAMP:20260419T165342
CREATED:20230417T164933Z
LAST-MODIFIED:20230417T165103Z
UID:10000180-1691402400-1691427600@iocp.org
SUMMARY:Store + Donation Door Open
DESCRIPTION:Last Chance Monday: Take 75% off all items with RED 50% off dots every Monday
URL:https://iocp.org/event/store-donation-door-open-monday-2/2023-08-07/
CATEGORIES:Store Hours
END:VEVENT
BEGIN:VEVENT
DTSTART;TZID=America/Chicago:20230805T100000
DTEND;TZID=America/Chicago:20230805T170000
DTSTAMP:20260419T165342
CREATED:20230510T171014Z
LAST-MODIFIED:20230510T171014Z
UID:10000399-1691229600-1691254800@iocp.org
SUMMARY:$5 Fill-a-Bag Sale
DESCRIPTION:$5 Fill-a-Bag Sale \nShop special tables and racks of merchandise we’re setting aside just for these sales. Most items have never been in the store before! Regularly tagged merchandise is not included in this sale. Just $5 for everything you can fit in a provided bag (no limit). Bring your whole family — there’s something for everyone!\n\nSaturdays:\nApril 22\, May 6 & 20\, June 3 & 17\, July 1 & 15\, August 5 & 19\n10 a.m.-5 p.m.\n\nMore info HERE.
URL:https://iocp.org/event/fill-a-bag-sale-2023/2023-08-05/
CATEGORIES:Shopping Event
END:VEVENT
BEGIN:VEVENT
DTSTART;TZID=America/Chicago:20230805T100000
DTEND;TZID=America/Chicago:20230805T170000
DTSTAMP:20260419T165342
CREATED:20230418T152126Z
LAST-MODIFIED:20230418T152127Z
UID:10000367-1691229600-1691254800@iocp.org
SUMMARY:Store Open
DESCRIPTION:$5 Fill-a-Bag Sale \nShop special tables and racks of merchandise we’re setting aside just for these sales. Most items have never been in the store before! Regularly tagged merchandise is not included in this sale. Just $5 for everything you can fit in a provided bag (no limit). Bring your whole family — there’s something for everyone!\n\nSaturdays:\nApril 22\, May 6 & 20\, June 3 & 17\, July 1 & 15\, August 5 & 19\n10 a.m.-5 p.m.
URL:https://iocp.org/event/store-open-17-9/
CATEGORIES:Store Hours
END:VEVENT
BEGIN:VEVENT
DTSTART;TZID=America/Chicago:20230804T100000
DTEND;TZID=America/Chicago:20230804T170000
DTSTAMP:20260419T165342
CREATED:20230417T170515Z
LAST-MODIFIED:20230417T170723Z
UID:10000329-1691143200-1691168400@iocp.org
SUMMARY:Store + Donation Door Open
DESCRIPTION:Furniture Friday: Take 20% off all furniture every Friday
URL:https://iocp.org/event/store-donation-door-open-friday/2023-08-04/
CATEGORIES:Store Hours
END:VEVENT
BEGIN:VEVENT
DTSTART;TZID=America/Chicago:20230803T100000
DTEND;TZID=America/Chicago:20230803T170000
DTSTAMP:20260419T165342
CREATED:20230417T170348Z
LAST-MODIFIED:20231006T165424Z
UID:10000292-1691056800-1691082000@iocp.org
SUMMARY:Store Open
DESCRIPTION:Resale Rewards members earn double points every Thursday! \nEarn $5 in rewards for every $50 you spend! (regularly $5 in rewards for every $100) \nNot a Resale Rewards member? Sign up with a cashier in the store. \n*Rewards can be redeemed the day after they are issued and expire after 30 days.
URL:https://iocp.org/event/store-open-thursday-3/2023-08-03/
CATEGORIES:Store Hours
END:VEVENT
BEGIN:VEVENT
DTSTART;TZID=America/Chicago:20230802T100000
DTEND;TZID=America/Chicago:20230802T190000
DTSTAMP:20260419T165342
CREATED:20230417T165752Z
LAST-MODIFIED:20230417T165752Z
UID:10000254-1690970400-1691002800@iocp.org
SUMMARY:Store + Donation Door Open
DESCRIPTION:Join us on Facebook at 6 p.m. for live shopping: Facebook.com/ResaleSelect
URL:https://iocp.org/event/store-donation-door-open-wednesday/2023-08-02/
CATEGORIES:Store Hours
END:VEVENT
BEGIN:VEVENT
DTSTART;TZID=America/Chicago:20230801T100000
DTEND;TZID=America/Chicago:20230801T170000
DTSTAMP:20260419T165342
CREATED:20230417T165350Z
LAST-MODIFIED:20230417T165350Z
UID:10000216-1690884000-1690909200@iocp.org
SUMMARY:Store Open
DESCRIPTION:Thrifting Tuesday: Take 25% off almost everything in the store every Tuesday *excludes furniture
URL:https://iocp.org/event/store-open-tuesday-2/2023-08-01/
CATEGORIES:Store Hours
END:VEVENT
BEGIN:VEVENT
DTSTART;TZID=America/Chicago:20230731T100000
DTEND;TZID=America/Chicago:20230731T170000
DTSTAMP:20260419T165342
CREATED:20230731T185325Z
LAST-MODIFIED:20230731T185325Z
UID:10000179-1690797600-1690822800@iocp.org
SUMMARY:Store Open + Donation Door Closed
DESCRIPTION:Last Chance Monday: Take 75% off all items with RED 50% off dots every Monday
URL:https://iocp.org/event/store-donation-door-open-monday-2-2/
CATEGORIES:Store Hours
END:VEVENT
BEGIN:VEVENT
DTSTART;TZID=America/Chicago:20230729T100000
DTEND;TZID=America/Chicago:20230729T170000
DTSTAMP:20260419T165342
CREATED:20230417T170636Z
LAST-MODIFIED:20230417T170636Z
UID:10000366-1690624800-1690650000@iocp.org
SUMMARY:Store Open
DESCRIPTION:
URL:https://iocp.org/event/store-open-17/2023-07-29/
CATEGORIES:Store Hours
END:VEVENT
BEGIN:VEVENT
DTSTART;TZID=America/Chicago:20230728T100000
DTEND;TZID=America/Chicago:20230728T170000
DTSTAMP:20260419T165342
CREATED:20230417T170515Z
LAST-MODIFIED:20230417T170723Z
UID:10000328-1690538400-1690563600@iocp.org
SUMMARY:Store + Donation Door Open
DESCRIPTION:Furniture Friday: Take 20% off all furniture every Friday
URL:https://iocp.org/event/store-donation-door-open-friday/2023-07-28/
CATEGORIES:Store Hours
END:VEVENT
BEGIN:VEVENT
DTSTART;TZID=America/Chicago:20230727T100000
DTEND;TZID=America/Chicago:20230727T170000
DTSTAMP:20260419T165342
CREATED:20230417T170348Z
LAST-MODIFIED:20231006T165424Z
UID:10000291-1690452000-1690477200@iocp.org
SUMMARY:Store Open
DESCRIPTION:Resale Rewards members earn double points every Thursday! \nEarn $5 in rewards for every $50 you spend! (regularly $5 in rewards for every $100) \nNot a Resale Rewards member? Sign up with a cashier in the store. \n*Rewards can be redeemed the day after they are issued and expire after 30 days.
URL:https://iocp.org/event/store-open-thursday-3/2023-07-27/
CATEGORIES:Store Hours
END:VEVENT
END:VCALENDAR