BEGIN:VCALENDAR
VERSION:2.0
PRODID:-//Interfaith Outreach &amp; Community Partners - ECPv6.15.20//NONSGML v1.0//EN
CALSCALE:GREGORIAN
METHOD:PUBLISH
X-WR-CALNAME:Interfaith Outreach &amp; Community Partners
X-ORIGINAL-URL:https://iocp.org
X-WR-CALDESC:Events for Interfaith Outreach &amp; Community Partners
REFRESH-INTERVAL;VALUE=DURATION:PT1H
X-Robots-Tag:noindex
X-PUBLISHED-TTL:PT1H
BEGIN:VTIMEZONE
TZID:America/Chicago
BEGIN:DAYLIGHT
TZOFFSETFROM:-0600
TZOFFSETTO:-0500
TZNAME:CDT
DTSTART:20220313T080000
END:DAYLIGHT
BEGIN:STANDARD
TZOFFSETFROM:-0500
TZOFFSETTO:-0600
TZNAME:CST
DTSTART:20221106T070000
END:STANDARD
BEGIN:DAYLIGHT
TZOFFSETFROM:-0600
TZOFFSETTO:-0500
TZNAME:CDT
DTSTART:20230312T080000
END:DAYLIGHT
BEGIN:STANDARD
TZOFFSETFROM:-0500
TZOFFSETTO:-0600
TZNAME:CST
DTSTART:20231105T070000
END:STANDARD
BEGIN:DAYLIGHT
TZOFFSETFROM:-0600
TZOFFSETTO:-0500
TZNAME:CDT
DTSTART:20240310T080000
END:DAYLIGHT
BEGIN:STANDARD
TZOFFSETFROM:-0500
TZOFFSETTO:-0600
TZNAME:CST
DTSTART:20241103T070000
END:STANDARD
END:VTIMEZONE
BEGIN:VEVENT
DTSTART;TZID=America/Chicago:20230621T100000
DTEND;TZID=America/Chicago:20230621T170000
DTSTAMP:20260422T175700
CREATED:20230612T150452Z
LAST-MODIFIED:20230612T150452Z
UID:10000407-1687341600-1687366800@iocp.org
SUMMARY:Store + Donation Door Closed all week
DESCRIPTION:Interfaith Outreach\, including Resale Select and the donation door\, will be closed the week of June 19-24\, 2023 in order to provide staff time off. This week of rest is intended to help staff be at their best\, provide high-quality services\, and maintain a client-centric approach to our work. We will re-open for normal business hours Monday\, June 26.
URL:https://iocp.org/event/store-donation-door-closed-all-week/2023-06-21/
CATEGORIES:Store Hours
END:VEVENT
BEGIN:VEVENT
DTSTART;TZID=America/Chicago:20230620T100000
DTEND;TZID=America/Chicago:20230620T170000
DTSTAMP:20260422T175700
CREATED:20230612T150452Z
LAST-MODIFIED:20230612T150452Z
UID:10000406-1687255200-1687280400@iocp.org
SUMMARY:Store + Donation Door Closed all week
DESCRIPTION:Interfaith Outreach\, including Resale Select and the donation door\, will be closed the week of June 19-24\, 2023 in order to provide staff time off. This week of rest is intended to help staff be at their best\, provide high-quality services\, and maintain a client-centric approach to our work. We will re-open for normal business hours Monday\, June 26.
URL:https://iocp.org/event/store-donation-door-closed-all-week/2023-06-20/
CATEGORIES:Store Hours
END:VEVENT
BEGIN:VEVENT
DTSTART;TZID=America/Chicago:20230619T100000
DTEND;TZID=America/Chicago:20230619T170000
DTSTAMP:20260422T175700
CREATED:20230612T150452Z
LAST-MODIFIED:20230612T150452Z
UID:10000405-1687168800-1687194000@iocp.org
SUMMARY:Store + Donation Door Closed all week
DESCRIPTION:Interfaith Outreach\, including Resale Select and the donation door\, will be closed the week of June 19-24\, 2023 in order to provide staff time off. This week of rest is intended to help staff be at their best\, provide high-quality services\, and maintain a client-centric approach to our work. We will re-open for normal business hours Monday\, June 26.
URL:https://iocp.org/event/store-donation-door-closed-all-week/2023-06-19/
CATEGORIES:Store Hours
END:VEVENT
BEGIN:VEVENT
DTSTART;TZID=America/Chicago:20230618T090000
DTEND;TZID=America/Chicago:20230618T120000
DTSTAMP:20260422T175700
CREATED:20230613T184637Z
LAST-MODIFIED:20230613T184638Z
UID:10000403-1687078800-1687089600@iocp.org
SUMMARY:Tent Sale Clearance
DESCRIPTION:Tent Sale at Resale Select\nJune 16-18\n\nFriday\, June 16\, noon-5 p.m.: Tent Sale preview (no sales)\nin-store sale 10 a.m.-5 p.m.\n\nSaturday\, June 17\, 9 a.m.-5 p.m.: Tent Sale\, rain or shine\n$5 Fill-a-Bag sale and in-store sale 10 a.m.-5 p.m.\n\nSunday\, June 18\, 9 a.m.-noon: Last-chance clearance\nno in-store shopping
URL:https://iocp.org/event/tent-sale-4/
CATEGORIES:Shopping Event
END:VEVENT
BEGIN:VEVENT
DTSTART;TZID=America/Chicago:20230617T100000
DTEND;TZID=America/Chicago:20230617T170000
DTSTAMP:20260422T175700
CREATED:20230510T171014Z
LAST-MODIFIED:20230510T171014Z
UID:10000396-1686996000-1687021200@iocp.org
SUMMARY:$5 Fill-a-Bag Sale
DESCRIPTION:$5 Fill-a-Bag Sale \nShop special tables and racks of merchandise we’re setting aside just for these sales. Most items have never been in the store before! Regularly tagged merchandise is not included in this sale. Just $5 for everything you can fit in a provided bag (no limit). Bring your whole family — there’s something for everyone!\n\nSaturdays:\nApril 22\, May 6 & 20\, June 3 & 17\, July 1 & 15\, August 5 & 19\n10 a.m.-5 p.m.\n\nMore info HERE.
URL:https://iocp.org/event/fill-a-bag-sale-2023/2023-06-17/
CATEGORIES:Shopping Event
END:VEVENT
BEGIN:VEVENT
DTSTART;TZID=America/Chicago:20230617T100000
DTEND;TZID=America/Chicago:20230617T170000
DTSTAMP:20260422T175700
CREATED:20230418T151943Z
LAST-MODIFIED:20230418T151943Z
UID:10000391-1686996000-1687021200@iocp.org
SUMMARY:Store Open
DESCRIPTION:$5 Fill-a-Bag Sale \nShop special tables and racks of merchandise we’re setting aside just for these sales. Most items have never been in the store before! Regularly tagged merchandise is not included in this sale. Just $5 for everything you can fit in a provided bag (no limit). Bring your whole family — there’s something for everyone!\n\nSaturdays:\nApril 22\, May 6 & 20\, June 3 & 17\, July 1 & 15\, August 5 & 19\n10 a.m.-5 p.m.
URL:https://iocp.org/event/store-open-18/
CATEGORIES:Store Hours
END:VEVENT
BEGIN:VEVENT
DTSTART;TZID=America/Chicago:20230617T090000
DTEND;TZID=America/Chicago:20230617T170000
DTSTAMP:20260422T175700
CREATED:20230510T171310Z
LAST-MODIFIED:20230510T171647Z
UID:10000402-1686992400-1687021200@iocp.org
SUMMARY:Tent Sale
DESCRIPTION:Tent Sale at Resale Select\nJune 16-18\n\nFriday\, June 16\, noon-5 p.m.: Tent Sale preview (no sales)\nin-store sale 10 a.m.-5 p.m.\n\nSaturday\, June 17\, 9 a.m.-5 p.m.: Tent Sale\, rain or shine\n$5 Fill-a-Bag sale and in-store sale 10 a.m.-5 p.m.\n\nSunday\, June 18\, 9 a.m.-noon: Last-chance clearance\nno in-store shopping
URL:https://iocp.org/event/tent-sale/2023-06-17/
CATEGORIES:Shopping Event
END:VEVENT
BEGIN:VEVENT
DTSTART;TZID=America/Chicago:20230616T120000
DTEND;TZID=America/Chicago:20230616T170000
DTSTAMP:20260422T175700
CREATED:20230613T184558Z
LAST-MODIFIED:20230613T184559Z
UID:10000404-1686916800-1686934800@iocp.org
SUMMARY:Tent Sale Preview (no sales in the tent)
DESCRIPTION:Tent Sale at Resale Select\nJune 16-18\n\nFriday\, June 16\, noon-5 p.m.: Tent Sale preview (no sales)\nin-store sale 10 a.m.-5 p.m.\n\nSaturday\, June 17\, 9 a.m.-5 p.m.: Tent Sale\, rain or shine\n$5 Fill-a-Bag sale and in-store sale 10 a.m.-5 p.m.\n\nSunday\, June 18\, 9 a.m.-noon: Last-chance clearance\nno in-store shopping
URL:https://iocp.org/event/tent-sale-3/
CATEGORIES:Shopping Event
END:VEVENT
BEGIN:VEVENT
DTSTART;TZID=America/Chicago:20230616T100000
DTEND;TZID=America/Chicago:20230616T170000
DTSTAMP:20260422T175700
CREATED:20230613T184850Z
LAST-MODIFIED:20230613T184850Z
UID:10000323-1686909600-1686934800@iocp.org
SUMMARY:Store Open + food donations only
DESCRIPTION:Furniture Friday: Take 20% off all furniture every Friday \nThe donation door is only accepting food donations for the rest of this week (June 12-16). Household and clothing donations are FULL. The donation door is closed next week (June 19-23) and will re-open with normal donation hours on Monday\, June 26.
URL:https://iocp.org/event/store-donation-door-open-friday-2/
CATEGORIES:Store Hours
END:VEVENT
BEGIN:VEVENT
DTSTART;TZID=America/Chicago:20230615T100000
DTEND;TZID=America/Chicago:20230615T170000
DTSTAMP:20260422T175700
CREATED:20230417T170348Z
LAST-MODIFIED:20231006T165424Z
UID:10000286-1686823200-1686848400@iocp.org
SUMMARY:Store Open
DESCRIPTION:Resale Rewards members earn double points every Thursday! \nEarn $5 in rewards for every $50 you spend! (regularly $5 in rewards for every $100) \nNot a Resale Rewards member? Sign up with a cashier in the store. \n*Rewards can be redeemed the day after they are issued and expire after 30 days.
URL:https://iocp.org/event/store-open-thursday-3/2023-06-15/
CATEGORIES:Store Hours
END:VEVENT
BEGIN:VEVENT
DTSTART;TZID=America/Chicago:20230614T100000
DTEND;TZID=America/Chicago:20230614T190000
DTSTAMP:20260422T175700
CREATED:20230613T184801Z
LAST-MODIFIED:20230613T184801Z
UID:10000248-1686736800-1686769200@iocp.org
SUMMARY:Store Open + food donations only
DESCRIPTION:Join us on Facebook at 6 p.m. for live shopping: Facebook.com/ResaleSelect \nThe donation door is only accepting food donations for the rest of this week (June 12-16). Household and clothing donations are FULL. The donation door is closed next week (June 19-23) and will re-open with normal donation hours on Monday\, June 26.
URL:https://iocp.org/event/store-donation-door-open-wednesday-4/
CATEGORIES:Store Hours
END:VEVENT
BEGIN:VEVENT
DTSTART;TZID=America/Chicago:20230613T100000
DTEND;TZID=America/Chicago:20230613T170000
DTSTAMP:20260422T175700
CREATED:20230417T165350Z
LAST-MODIFIED:20230417T165350Z
UID:10000211-1686650400-1686675600@iocp.org
SUMMARY:Store Open
DESCRIPTION:Thrifting Tuesday: Take 25% off almost everything in the store every Tuesday *excludes furniture
URL:https://iocp.org/event/store-open-tuesday-2/2023-06-13/
CATEGORIES:Store Hours
END:VEVENT
BEGIN:VEVENT
DTSTART;TZID=America/Chicago:20230612T100000
DTEND;TZID=America/Chicago:20230612T170000
DTSTAMP:20260422T175700
CREATED:20230417T164933Z
LAST-MODIFIED:20230417T165103Z
UID:10000173-1686564000-1686589200@iocp.org
SUMMARY:Store + Donation Door Open
DESCRIPTION:Last Chance Monday: Take 75% off all items with RED 50% off dots every Monday
URL:https://iocp.org/event/store-donation-door-open-monday-2/2023-06-12/
CATEGORIES:Store Hours
END:VEVENT
BEGIN:VEVENT
DTSTART;TZID=America/Chicago:20230610T100000
DTEND;TZID=America/Chicago:20230610T170000
DTSTAMP:20260422T175700
CREATED:20230417T170636Z
LAST-MODIFIED:20230417T170636Z
UID:10000360-1686391200-1686416400@iocp.org
SUMMARY:Store Open
DESCRIPTION:
URL:https://iocp.org/event/store-open-17/2023-06-10/
CATEGORIES:Store Hours
END:VEVENT
BEGIN:VEVENT
DTSTART;TZID=America/Chicago:20230609T100000
DTEND;TZID=America/Chicago:20230609T170000
DTSTAMP:20260422T175700
CREATED:20230417T170515Z
LAST-MODIFIED:20230417T170723Z
UID:10000322-1686304800-1686330000@iocp.org
SUMMARY:Store + Donation Door Open
DESCRIPTION:Furniture Friday: Take 20% off all furniture every Friday
URL:https://iocp.org/event/store-donation-door-open-friday/2023-06-09/
CATEGORIES:Store Hours
END:VEVENT
BEGIN:VEVENT
DTSTART;TZID=America/Chicago:20230608T100000
DTEND;TZID=America/Chicago:20230608T170000
DTSTAMP:20260422T175700
CREATED:20230417T170348Z
LAST-MODIFIED:20231006T165424Z
UID:10000285-1686218400-1686243600@iocp.org
SUMMARY:Store Open
DESCRIPTION:Resale Rewards members earn double points every Thursday! \nEarn $5 in rewards for every $50 you spend! (regularly $5 in rewards for every $100) \nNot a Resale Rewards member? Sign up with a cashier in the store. \n*Rewards can be redeemed the day after they are issued and expire after 30 days.
URL:https://iocp.org/event/store-open-thursday-3/2023-06-08/
CATEGORIES:Store Hours
END:VEVENT
BEGIN:VEVENT
DTSTART;TZID=America/Chicago:20230607T100000
DTEND;TZID=America/Chicago:20230607T190000
DTSTAMP:20260422T175700
CREATED:20230607T181028Z
LAST-MODIFIED:20230607T181057Z
UID:10000247-1686132000-1686164400@iocp.org
SUMMARY:Store Open + Donation Door Closed
DESCRIPTION:Join us on Facebook at 6 p.m. for live shopping: Facebook.com/ResaleSelect
URL:https://iocp.org/event/store-donation-door-open-wednesday-3/
CATEGORIES:Store Hours
END:VEVENT
BEGIN:VEVENT
DTSTART;TZID=America/Chicago:20230606T100000
DTEND;TZID=America/Chicago:20230606T170000
DTSTAMP:20260422T175700
CREATED:20230417T165350Z
LAST-MODIFIED:20230417T165350Z
UID:10000210-1686045600-1686070800@iocp.org
SUMMARY:Store Open
DESCRIPTION:Thrifting Tuesday: Take 25% off almost everything in the store every Tuesday *excludes furniture
URL:https://iocp.org/event/store-open-tuesday-2/2023-06-06/
CATEGORIES:Store Hours
END:VEVENT
BEGIN:VEVENT
DTSTART;TZID=America/Chicago:20230605T100000
DTEND;TZID=America/Chicago:20230605T170000
DTSTAMP:20260422T175700
CREATED:20230417T164933Z
LAST-MODIFIED:20230417T165103Z
UID:10000172-1685959200-1685984400@iocp.org
SUMMARY:Store + Donation Door Open
DESCRIPTION:Last Chance Monday: Take 75% off all items with RED 50% off dots every Monday
URL:https://iocp.org/event/store-donation-door-open-monday-2/2023-06-05/
CATEGORIES:Store Hours
END:VEVENT
BEGIN:VEVENT
DTSTART;TZID=America/Chicago:20230603T100000
DTEND;TZID=America/Chicago:20230603T170000
DTSTAMP:20260422T175700
CREATED:20230510T171014Z
LAST-MODIFIED:20230510T171014Z
UID:10000395-1685786400-1685811600@iocp.org
SUMMARY:$5 Fill-a-Bag Sale
DESCRIPTION:$5 Fill-a-Bag Sale \nShop special tables and racks of merchandise we’re setting aside just for these sales. Most items have never been in the store before! Regularly tagged merchandise is not included in this sale. Just $5 for everything you can fit in a provided bag (no limit). Bring your whole family — there’s something for everyone!\n\nSaturdays:\nApril 22\, May 6 & 20\, June 3 & 17\, July 1 & 15\, August 5 & 19\n10 a.m.-5 p.m.\n\nMore info HERE.
URL:https://iocp.org/event/fill-a-bag-sale-2023/2023-06-03/
CATEGORIES:Shopping Event
END:VEVENT
BEGIN:VEVENT
DTSTART;TZID=America/Chicago:20230603T100000
DTEND;TZID=America/Chicago:20230603T170000
DTSTAMP:20260422T175700
CREATED:20230418T151342Z
LAST-MODIFIED:20230418T151523Z
UID:10000359-1685786400-1685811600@iocp.org
SUMMARY:Store Open
DESCRIPTION:$5 Fill-a-Bag Sale \nShop special tables and racks of merchandise we’re setting aside just for these sales. Most items have never been in the store before! Regularly tagged merchandise is not included in this sale. Just $5 for everything you can fit in a provided bag (no limit). Bring your whole family — there’s something for everyone!\n\nSaturdays:\nApril 22\, May 6 & 20\, June 3 & 17\, July 1 & 15\, August 5 & 19\n10 a.m.-5 p.m.
URL:https://iocp.org/event/store-open-17-5/
CATEGORIES:Store Hours
END:VEVENT
BEGIN:VEVENT
DTSTART;TZID=America/Chicago:20230602T100000
DTEND;TZID=America/Chicago:20230602T170000
DTSTAMP:20260422T175700
CREATED:20230417T170515Z
LAST-MODIFIED:20230417T170723Z
UID:10000321-1685700000-1685725200@iocp.org
SUMMARY:Store + Donation Door Open
DESCRIPTION:Furniture Friday: Take 20% off all furniture every Friday
URL:https://iocp.org/event/store-donation-door-open-friday/2023-06-02/
CATEGORIES:Store Hours
END:VEVENT
BEGIN:VEVENT
DTSTART;TZID=America/Chicago:20230601T100000
DTEND;TZID=America/Chicago:20230601T170000
DTSTAMP:20260422T175700
CREATED:20230417T170348Z
LAST-MODIFIED:20231006T165424Z
UID:10000284-1685613600-1685638800@iocp.org
SUMMARY:Store Open
DESCRIPTION:Resale Rewards members earn double points every Thursday! \nEarn $5 in rewards for every $50 you spend! (regularly $5 in rewards for every $100) \nNot a Resale Rewards member? Sign up with a cashier in the store. \n*Rewards can be redeemed the day after they are issued and expire after 30 days.
URL:https://iocp.org/event/store-open-thursday-3/2023-06-01/
CATEGORIES:Store Hours
END:VEVENT
BEGIN:VEVENT
DTSTART;TZID=America/Chicago:20230531T100000
DTEND;TZID=America/Chicago:20230531T190000
DTSTAMP:20260422T175700
CREATED:20230417T165752Z
LAST-MODIFIED:20230417T165752Z
UID:10000246-1685527200-1685559600@iocp.org
SUMMARY:Store + Donation Door Open
DESCRIPTION:Join us on Facebook at 6 p.m. for live shopping: Facebook.com/ResaleSelect
URL:https://iocp.org/event/store-donation-door-open-wednesday/2023-05-31/
CATEGORIES:Store Hours
END:VEVENT
BEGIN:VEVENT
DTSTART;TZID=America/Chicago:20230530T100000
DTEND;TZID=America/Chicago:20230530T170000
DTSTAMP:20260422T175700
CREATED:20230417T165350Z
LAST-MODIFIED:20230417T165350Z
UID:10000209-1685440800-1685466000@iocp.org
SUMMARY:Store Open
DESCRIPTION:Thrifting Tuesday: Take 25% off almost everything in the store every Tuesday *excludes furniture
URL:https://iocp.org/event/store-open-tuesday-2/2023-05-30/
CATEGORIES:Store Hours
END:VEVENT
BEGIN:VEVENT
DTSTART;TZID=America/Chicago:20230527T100000
DTEND;TZID=America/Chicago:20230527T170000
DTSTAMP:20260422T175700
CREATED:20230417T170636Z
LAST-MODIFIED:20230417T170636Z
UID:10000358-1685181600-1685206800@iocp.org
SUMMARY:Store Open
DESCRIPTION:
URL:https://iocp.org/event/store-open-17/2023-05-27/
CATEGORIES:Store Hours
END:VEVENT
BEGIN:VEVENT
DTSTART;TZID=America/Chicago:20230526T100000
DTEND;TZID=America/Chicago:20230526T170000
DTSTAMP:20260422T175700
CREATED:20230417T170515Z
LAST-MODIFIED:20230417T170723Z
UID:10000320-1685095200-1685120400@iocp.org
SUMMARY:Store + Donation Door Open
DESCRIPTION:Furniture Friday: Take 20% off all furniture every Friday
URL:https://iocp.org/event/store-donation-door-open-friday/2023-05-26/
CATEGORIES:Store Hours
END:VEVENT
BEGIN:VEVENT
DTSTART;TZID=America/Chicago:20230525T100000
DTEND;TZID=America/Chicago:20230525T170000
DTSTAMP:20260422T175700
CREATED:20230417T170348Z
LAST-MODIFIED:20231006T165424Z
UID:10000283-1685008800-1685034000@iocp.org
SUMMARY:Store Open
DESCRIPTION:Resale Rewards members earn double points every Thursday! \nEarn $5 in rewards for every $50 you spend! (regularly $5 in rewards for every $100) \nNot a Resale Rewards member? Sign up with a cashier in the store. \n*Rewards can be redeemed the day after they are issued and expire after 30 days.
URL:https://iocp.org/event/store-open-thursday-3/2023-05-25/
CATEGORIES:Store Hours
END:VEVENT
BEGIN:VEVENT
DTSTART;TZID=America/Chicago:20230524T100000
DTEND;TZID=America/Chicago:20230524T190000
DTSTAMP:20260422T175701
CREATED:20230524T163757Z
LAST-MODIFIED:20230524T163758Z
UID:10000245-1684922400-1684954800@iocp.org
SUMMARY:Store Open + Donation Door Closed
DESCRIPTION:Join us on Facebook at 6 p.m. for live shopping: Facebook.com/ResaleSelect
URL:https://iocp.org/event/store-donation-door-open-wednesday-2/
CATEGORIES:Store Hours
END:VEVENT
BEGIN:VEVENT
DTSTART;TZID=America/Chicago:20230523T100000
DTEND;TZID=America/Chicago:20230523T170000
DTSTAMP:20260422T175701
CREATED:20230417T165350Z
LAST-MODIFIED:20230417T165350Z
UID:10000208-1684836000-1684861200@iocp.org
SUMMARY:Store Open
DESCRIPTION:Thrifting Tuesday: Take 25% off almost everything in the store every Tuesday *excludes furniture
URL:https://iocp.org/event/store-open-tuesday-2/2023-05-23/
CATEGORIES:Store Hours
END:VEVENT
END:VCALENDAR