BEGIN:VCALENDAR
VERSION:2.0
PRODID:-//Interfaith Outreach &amp; Community Partners - ECPv6.15.20//NONSGML v1.0//EN
CALSCALE:GREGORIAN
METHOD:PUBLISH
X-WR-CALNAME:Interfaith Outreach &amp; Community Partners
X-ORIGINAL-URL:https://iocp.org
X-WR-CALDESC:Events for Interfaith Outreach &amp; Community Partners
REFRESH-INTERVAL;VALUE=DURATION:PT1H
X-Robots-Tag:noindex
X-PUBLISHED-TTL:PT1H
BEGIN:VTIMEZONE
TZID:America/Chicago
BEGIN:DAYLIGHT
TZOFFSETFROM:-0600
TZOFFSETTO:-0500
TZNAME:CDT
DTSTART:20220313T080000
END:DAYLIGHT
BEGIN:STANDARD
TZOFFSETFROM:-0500
TZOFFSETTO:-0600
TZNAME:CST
DTSTART:20221106T070000
END:STANDARD
BEGIN:DAYLIGHT
TZOFFSETFROM:-0600
TZOFFSETTO:-0500
TZNAME:CDT
DTSTART:20230312T080000
END:DAYLIGHT
BEGIN:STANDARD
TZOFFSETFROM:-0500
TZOFFSETTO:-0600
TZNAME:CST
DTSTART:20231105T070000
END:STANDARD
BEGIN:DAYLIGHT
TZOFFSETFROM:-0600
TZOFFSETTO:-0500
TZNAME:CDT
DTSTART:20240310T080000
END:DAYLIGHT
BEGIN:STANDARD
TZOFFSETFROM:-0500
TZOFFSETTO:-0600
TZNAME:CST
DTSTART:20241103T070000
END:STANDARD
END:VTIMEZONE
BEGIN:VEVENT
DTSTART;TZID=America/Chicago:20231216T100000
DTEND;TZID=America/Chicago:20231216T170000
DTSTAMP:20260419T190613
CREATED:20231130T191818Z
LAST-MODIFIED:20231211T170031Z
UID:10000386-1702720800-1702746000@iocp.org
SUMMARY:Store Open
DESCRIPTION:Pictures with Santa from 11 a.m.-2 p.m. (bring your camera!) \nGenerationNOW DJs in-store from 11 a.m.-3 p.m. Music provided by the Official DJ of the MN Timberwolves\, DJ Mad Mardigan
URL:https://iocp.org/event/store-open-17-11/
CATEGORIES:Store Hours
END:VEVENT
END:VCALENDAR