BEGIN:VCALENDAR
VERSION:2.0
PRODID:-//Interfaith Outreach &amp; Community Partners - ECPv6.15.20//NONSGML v1.0//EN
CALSCALE:GREGORIAN
METHOD:PUBLISH
X-WR-CALNAME:Interfaith Outreach &amp; Community Partners
X-ORIGINAL-URL:https://iocp.org
X-WR-CALDESC:Events for Interfaith Outreach &amp; Community Partners
REFRESH-INTERVAL;VALUE=DURATION:PT1H
X-Robots-Tag:noindex
X-PUBLISHED-TTL:PT1H
BEGIN:VTIMEZONE
TZID:America/Chicago
BEGIN:DAYLIGHT
TZOFFSETFROM:-0600
TZOFFSETTO:-0500
TZNAME:CDT
DTSTART:20220313T080000
END:DAYLIGHT
BEGIN:STANDARD
TZOFFSETFROM:-0500
TZOFFSETTO:-0600
TZNAME:CST
DTSTART:20221106T070000
END:STANDARD
BEGIN:DAYLIGHT
TZOFFSETFROM:-0600
TZOFFSETTO:-0500
TZNAME:CDT
DTSTART:20230312T080000
END:DAYLIGHT
BEGIN:STANDARD
TZOFFSETFROM:-0500
TZOFFSETTO:-0600
TZNAME:CST
DTSTART:20231105T070000
END:STANDARD
BEGIN:DAYLIGHT
TZOFFSETFROM:-0600
TZOFFSETTO:-0500
TZNAME:CDT
DTSTART:20240310T080000
END:DAYLIGHT
BEGIN:STANDARD
TZOFFSETFROM:-0500
TZOFFSETTO:-0600
TZNAME:CST
DTSTART:20241103T070000
END:STANDARD
END:VTIMEZONE
BEGIN:VEVENT
DTSTART;TZID=America/Chicago:20231115T100000
DTEND;TZID=America/Chicago:20231115T190000
DTSTAMP:20260419T190655
CREATED:20230417T165752Z
LAST-MODIFIED:20230417T165752Z
UID:10000269-1700042400-1700074800@iocp.org
SUMMARY:Store + Donation Door Open
DESCRIPTION:Join us on Facebook at 6 p.m. for live shopping: Facebook.com/ResaleSelect
URL:https://iocp.org/event/store-donation-door-open-wednesday/2023-11-15/
CATEGORIES:Store Hours
END:VEVENT
END:VCALENDAR