BEGIN:VCALENDAR
VERSION:2.0
PRODID:-//Interfaith Outreach &amp; Community Partners - ECPv6.15.20//NONSGML v1.0//EN
CALSCALE:GREGORIAN
METHOD:PUBLISH
X-ORIGINAL-URL:https://iocp.org
X-WR-CALDESC:Events for Interfaith Outreach &amp; Community Partners
REFRESH-INTERVAL;VALUE=DURATION:PT1H
X-Robots-Tag:noindex
X-PUBLISHED-TTL:PT1H
BEGIN:VTIMEZONE
TZID:America/Chicago
BEGIN:DAYLIGHT
TZOFFSETFROM:-0600
TZOFFSETTO:-0500
TZNAME:CDT
DTSTART:20220313T080000
END:DAYLIGHT
BEGIN:STANDARD
TZOFFSETFROM:-0500
TZOFFSETTO:-0600
TZNAME:CST
DTSTART:20221106T070000
END:STANDARD
BEGIN:DAYLIGHT
TZOFFSETFROM:-0600
TZOFFSETTO:-0500
TZNAME:CDT
DTSTART:20230312T080000
END:DAYLIGHT
BEGIN:STANDARD
TZOFFSETFROM:-0500
TZOFFSETTO:-0600
TZNAME:CST
DTSTART:20231105T070000
END:STANDARD
BEGIN:DAYLIGHT
TZOFFSETFROM:-0600
TZOFFSETTO:-0500
TZNAME:CDT
DTSTART:20240310T080000
END:DAYLIGHT
BEGIN:STANDARD
TZOFFSETFROM:-0500
TZOFFSETTO:-0600
TZNAME:CST
DTSTART:20241103T070000
END:STANDARD
END:VTIMEZONE
BEGIN:VEVENT
DTSTART;VALUE=DATE:20230928
DTEND;VALUE=DATE:20231001
DTSTAMP:20260419T224035
CREATED:20230905T165925Z
LAST-MODIFIED:20230927T155241Z
UID:10000300-1695859200-1696118399@iocp.org
SUMMARY:Store + Donation Door Closed
DESCRIPTION:We are upgrading our cash registers\, rewards program\, and inventory system next week. To make this transition\, the store will be closed September 28\, 29 & 30 and the donation door will be closed the week of September 25-29. We will fully re-open on Monday\, Oct. 2\, with restocked merchandise and regular store and donation door hours.
URL:https://iocp.org/event/store-open-thursday-3-5/
CATEGORIES:Store Hours
END:VEVENT
END:VCALENDAR